BEGIN:VCALENDAR
VERSION:2.0
PRODID:-//eventon.com NONSGML v1.0//EN
CALSCALE:GREGORIAN
METHOD:PUBLISH
BEGIN:VEVENT
UID:69e74b12d97e4
DTSTAMP:20260421T100154Z
DTSTART:20260403T100000Z
DTEND:20260403T235900Z
LOCATION:Brechin United Church 2020 Estevan Rd\,  Nanaimo\,  BC V9S 0C9
SUMMARY:Good Friday
DESCRIPTION:Good Friday service will be hosted at Brechin United Church on 
 Friday\,  April 3rd @ 10:00am. The United Churches of Nanaimo will be amalg
 amating for this very special service. All three Church choirs will be perf
 orming together. We hope to see you there!\nhttps://staucevents.com/events/
 good-friday/
URL:https://staucevents.com/events/good-friday/
END:VEVENT
END:VCALENDAR