BEGIN:VCALENDAR
VERSION:2.0
PRODID:-//eventon.com NONSGML v1.0//EN
CALSCALE:GREGORIAN
METHOD:PUBLISH
BEGIN:VEVENT
UID:69e74779783d6
DTSTAMP:20260421T094633Z
DTSTART:20260425T193000Z
DTEND:20260425T235900Z
LOCATION:St. Andrews United Church 315 Fitzwilliam St\,  Nanaimo\,  BC\,  V9R 3A6
SUMMARY:Island Bel Canto presents: Our Backyard
DESCRIPTION:Music Composed – and Sung! – by Canadian Women Two of Vanco
 uver Island’s distinguished adult treble choirs join forces to present an
  evening of Canadian favourites – all composed by women.Island Bel Canto 
 will perform songs of Joni Mitchell (Circle Game)\,  Susan Crowe (Sparrow) 
 and Jane Siberry (The Valley). Other[..]\nhttps://staucevents.com/events/is
 land-bel-canto-presents-our-backyard/
URL:https://staucevents.com/events/island-bel-canto-presents-our-backyard/
END:VEVENT
END:VCALENDAR